BEGIN:VCALENDAR
VERSION:2.0
PRODID:-//The Wild Hunt - ECPv6.15.20//NONSGML v1.0//EN
CALSCALE:GREGORIAN
METHOD:PUBLISH
X-ORIGINAL-URL:https://wildhunt.org
X-WR-CALDESC:Events for The Wild Hunt
REFRESH-INTERVAL;VALUE=DURATION:PT1H
X-Robots-Tag:noindex
X-PUBLISHED-TTL:PT1H
BEGIN:VTIMEZONE
TZID:America/New_York
BEGIN:DAYLIGHT
TZOFFSETFROM:-0500
TZOFFSETTO:-0400
TZNAME:EDT
DTSTART:20250309T070000
END:DAYLIGHT
BEGIN:STANDARD
TZOFFSETFROM:-0400
TZOFFSETTO:-0500
TZNAME:EST
DTSTART:20251102T060000
END:STANDARD
BEGIN:DAYLIGHT
TZOFFSETFROM:-0500
TZOFFSETTO:-0400
TZNAME:EDT
DTSTART:20260308T070000
END:DAYLIGHT
BEGIN:STANDARD
TZOFFSETFROM:-0400
TZOFFSETTO:-0500
TZNAME:EST
DTSTART:20261101T060000
END:STANDARD
BEGIN:DAYLIGHT
TZOFFSETFROM:-0500
TZOFFSETTO:-0400
TZNAME:EDT
DTSTART:20270314T070000
END:DAYLIGHT
BEGIN:STANDARD
TZOFFSETFROM:-0400
TZOFFSETTO:-0500
TZNAME:EST
DTSTART:20271107T060000
END:STANDARD
END:VTIMEZONE
BEGIN:VEVENT
DTSTART;VALUE=DATE:20260807
DTEND;VALUE=DATE:20260810
DTSTAMP:20260420T062840
CREATED:20260417T023137Z
LAST-MODIFIED:20260417T023546Z
UID:2585143-1786060800-1786319999@wildhunt.org
SUMMARY:HexFest: A Weekend of Witchery in Old New Orleans
DESCRIPTION:HexFest: A Weekend of Witchery in Old New Orleans \n \nAugust 7 to 9\, 2026\, Brian Cain and Christian Day present HexFest: A Weekend of Witchery held in the heart of the historic French Quarter. The conference opens with a Riverboat Ritual and dinner aboard an authentic steamboat on the Mississippi River\, followed by two full days of workshops\, drumming\, and ritual at the haunted Bourbon Orleans Hotel! \nThe Official Salem Witches’ Halloween Ball Saturday\, October 31\, 2026\, 7:30pm at the Hawthorne Hotel Join Christian Day\, Brian Cain\, and the Witches of Salem with guests Dragon Ritual Drummers as Witches and mortals alike gather from around the globe for a night of magic\, music\, powerful rituals\, and prizes at the world’s most magical Halloween party! \nJoin us as in days of old when fires burned on every hilltop and Witches gathered to feast\, rejoice\, and cast spells for the new year! \nFor more information visit:  www.HexFest.com
URL:https://wildhunt.org/event/hexfest-a-weekend-of-witchery-in-old-new-orleans
CATEGORIES:Festival
ATTACH;FMTTYPE=image/png:https://wildhunt.org/wp-content/uploads/2026/04/herologo.png
END:VEVENT
BEGIN:VEVENT
DTSTART;TZID=America/New_York:20261010T120000
DTEND;TZID=America/New_York:20261010T200000
DTSTAMP:20260420T062840
CREATED:20251210T175835Z
LAST-MODIFIED:20260417T023324Z
UID:2389288-1791633600-1791662400@wildhunt.org
SUMMARY:South Florida Pagan Pride Day
DESCRIPTION:Join The Grove as they celebrate Pagan Pride Day! Come with the kids to this family-friendly all-day event. Held in the Oak Ridge Hall at Tree Tops Park (indoors! Air conditioning!) spend the day in workshops\, ritual\, and building community with other Witches and Pagans in South Florida. \nOpen to all Pagans\, Witches\, Heathens\, Druids\, and tree-huggers alike! This event is Free and family-friendly. There will be a pot-luck feast\, workshops\, and ritual. \n 
URL:https://wildhunt.org/event/south-florida-pagan-pride-day
LOCATION:Tree Tops Park\, Davie\, FL\, United States
CATEGORIES:Pagan Pride Day
END:VEVENT
END:VCALENDAR