BEGIN:VCALENDAR
VERSION:2.0
PRODID:-//The Wild Hunt - ECPv6.15.20//NONSGML v1.0//EN
CALSCALE:GREGORIAN
METHOD:PUBLISH
X-WR-CALNAME:The Wild Hunt
X-ORIGINAL-URL:https://wildhunt.org
X-WR-CALDESC:Events for The Wild Hunt
REFRESH-INTERVAL;VALUE=DURATION:PT1H
X-Robots-Tag:noindex
X-PUBLISHED-TTL:PT1H
BEGIN:VTIMEZONE
TZID:America/New_York
BEGIN:DAYLIGHT
TZOFFSETFROM:-0500
TZOFFSETTO:-0400
TZNAME:EDT
DTSTART:20250309T070000
END:DAYLIGHT
BEGIN:STANDARD
TZOFFSETFROM:-0400
TZOFFSETTO:-0500
TZNAME:EST
DTSTART:20251102T060000
END:STANDARD
BEGIN:DAYLIGHT
TZOFFSETFROM:-0500
TZOFFSETTO:-0400
TZNAME:EDT
DTSTART:20260308T070000
END:DAYLIGHT
BEGIN:STANDARD
TZOFFSETFROM:-0400
TZOFFSETTO:-0500
TZNAME:EST
DTSTART:20261101T060000
END:STANDARD
BEGIN:DAYLIGHT
TZOFFSETFROM:-0500
TZOFFSETTO:-0400
TZNAME:EDT
DTSTART:20270314T070000
END:DAYLIGHT
BEGIN:STANDARD
TZOFFSETFROM:-0400
TZOFFSETTO:-0500
TZNAME:EST
DTSTART:20271107T060000
END:STANDARD
END:VTIMEZONE
BEGIN:VEVENT
DTSTART;VALUE=DATE:20260418
DTEND;VALUE=DATE:20260419
DTSTAMP:20260424T052712
CREATED:20260417T022839Z
LAST-MODIFIED:20260417T023907Z
UID:2585137-1776470400-1776556799@wildhunt.org
SUMMARY:Earth Day: The Sights and Sounds of Our Living Planet
DESCRIPTION:Celebrate Earth Day on Saturday\, April 18th from 9:30 am to 4:30 pm at Circle Sanctuary Nature Preserve near Barneveld\, Wisconsin\, just southwest of Madison\, WI. \nThe celebration will feature Bob Lindmeier\, retired Chief meteorologist at WKOW-TV (Madison\, WI) leading a presentation on Solving the Climate Crisis. Lindmeier will discuss how climate scientists have determined that we are in a climate crisis\, the consequences from climate change\, and solutions to reduce our carbon footprint. \nThe day will also include a mindfulness nature walk through the restored prairie up to the Green Cemetery and conclude with a concert by singer-songwriter Michael Bryant. \nThis event is free but pre-registration is required. To learn more and to register\, please visit circlesanctuary.org/events/Earth-Day. \nCircle Sanctuary is a non-profit international Nature Spirituality resource center and legally recognized Nature Spirituality church.  Founded in 1974\, Circle helps people from many spiritual orientations connect with each other as well as with the spiritual dimensions of Nature.
URL:https://wildhunt.org/event/earth-day-the-sights-and-sounds-of-our-living-planet
ATTACH;FMTTYPE=image/png:https://wildhunt.org/wp-content/uploads/2026/04/Earth-Day-Circle.png
END:VEVENT
END:VCALENDAR